BEGIN:VCALENDAR
VERSION:2.0
PRODID:-//Plone.org//NONSGML plone.app.event//EN
X-WR-TIMEZONE:UTC
BEGIN:VEVENT
SUMMARY:Teste
DTSTART;VALUE=DATE-TIME:20200828T170000Z
DTEND;VALUE=DATE-TIME:20200828T180000Z
DTSTAMP;VALUE=DATE-TIME:20260424T124908Z
UID:d18a097a92f34c29afcdcf35611acf95@portalpadrao.ufma.br
CREATED;VALUE=DATE-TIME:20200828T170911Z
LAST-MODIFIED;VALUE=DATE-TIME:20230405T191122Z
URL:https://portalpadrao.ufma.br/sti/old/teste
END:VEVENT
END:VCALENDAR
