BEGIN:VCALENDAR
VERSION:2.0
PRODID:-//Plone.org//NONSGML plone.app.event//EN
X-WR-TIMEZONE:UTC
BEGIN:VEVENT
SUMMARY:Workshop - Sistema AMA - Usos e experiências
DTSTART;VALUE=DATE-TIME:20201208T083000Z
DTEND;VALUE=DATE-TIME:20201208T120000Z
DTSTAMP;VALUE=DATE-TIME:20260424T213544Z
UID:2fe35b7d3a0449ee8a5ace2d999c2509@portalpadrao.ufma.br
CATEGORIES:evento outro
CONTACT:https://www.epe.gov.br/pt/imprensa/noticias/workshop-sistema-ama-u
 sos-e-experiencias
CREATED;VALUE=DATE-TIME:20210220T001730Z
LAST-MODIFIED;VALUE=DATE-TIME:20210306T202648Z
LOCATION:Virtual
URL:https://portalpadrao.ufma.br/ineof/eventos/outros/workshop-sistema-ama
 -usos-e-experiencias
END:VEVENT
END:VCALENDAR
