BEGIN:VCALENDAR
VERSION:2.0
PRODID:-//Plone.org//NONSGML plone.app.event//EN
X-WR-TIMEZONE:UTC
BEGIN:VEVENT
SUMMARY:ICOE - OEE 2022
DTSTART;VALUE=DATE:20221018
DTEND;VALUE=DATE:20221021
DTSTAMP;VALUE=DATE-TIME:20260424T232200Z
UID:67bcdcd0925c4c9697fe9a5af44240c4@portalpadrao.ufma.br
CATEGORIES:evento outro
CONTACT:info@icoeoee2022donostia.org\, https://icoeoee2022donostia.org
CREATED;VALUE=DATE-TIME:20220423T215553Z
LAST-MODIFIED;VALUE=DATE-TIME:20220611T130106Z
LOCATION:San Sebastián / Donostia\, in the Basque Country\, Spain
URL:https://portalpadrao.ufma.br/ineof/eventos/outros/international-confer
 ence-on-ocean-energy-icoe-and-ocean-energy-europe2019s-oee
END:VEVENT
END:VCALENDAR
