BEGIN:VCALENDAR
VERSION:2.0
PRODID:-//Plone.org//NONSGML plone.app.event//EN
X-WR-TIMEZONE:UTC
BEGIN:VEVENT
SUMMARY:CONIBEN 2019
DTSTART;VALUE=DATE:20190530
DTEND;VALUE=DATE:20190601
DTSTAMP;VALUE=DATE-TIME:20260424T200052Z
UID:8f89f05b3d1f4e8b889f6c6925b94b8d@portalpadrao.ufma.br
CATEGORIES:evento outro
CONTACT:Paulo Sergio de Holanda Menezes\, coniben@pmaiseventos.com\, http:
 //coniben.com
CREATED;VALUE=DATE-TIME:20210214T221421Z
LAST-MODIFIED;VALUE=DATE-TIME:20220611T130012Z
LOCATION:Tivoli Avenida Liberdade Lisboa-Portugal
URL:https://portalpadrao.ufma.br/ineof/eventos/outros/conferencia-ibero-br
 asileira-de-energia-coniben-2019
END:VEVENT
END:VCALENDAR
