BEGIN:VCALENDAR
VERSION:2.0
PRODID:-//Plone.org//NONSGML plone.app.event//EN
X-WR-TIMEZONE:UTC
BEGIN:VEVENT
SUMMARY:14th European Wave and Tidal Energy Conference
DTSTART;VALUE=DATE:20210905
DTEND;VALUE=DATE:20210910
DTSTAMP;VALUE=DATE-TIME:20260424T200002Z
UID:aeb831038f744ff5b59e87710aa679f5@portalpadrao.ufma.br
CATEGORIES:evento outro
CONTACT:Professor Deborah Greaves OBE\, https://ewtec.org/ewtec-2021/
CREATED;VALUE=DATE-TIME:20220423T202037Z
LAST-MODIFIED;VALUE=DATE-TIME:20220423T214718Z
LOCATION:Plymouth\, UK
URL:https://portalpadrao.ufma.br/ineof/eventos/outros/14th-european-wave-a
 nd-tidal-energy-conference
END:VEVENT
END:VCALENDAR
